BEGIN:VCALENDAR
VERSION:2.0
PRODID:-//ChamberMaster//Event Calendar 2.0//EN
METHOD:PUBLISH
X-PUBLISHED-TTL:P3D
REFRESH-INTERVAL:P3D
CALSCALE:GREGORIAN
BEGIN:VEVENT
DTSTART:20220812T210000Z
DTEND:20220813T013000Z
X-MICROSOFT-CDO-ALLDAYEVENT:FALSE
SUMMARY:Alive on 25
DESCRIPTION:Alive on 25 is a walkable\, pop-up summer street festival in Downtown Riverhead offering live music on six stages\, local craft beverages\, outdoor dining\, Long Island artists\, performers and street vendors - this is where the east end comes ALIVE between Long Island's Hamptons and North Fork.\n\n \n\nNEW FOR 2022: NOW HOSTED ON FRIDAYS!\n\n5:00pm - 9:30pm\n\n7/1 Car Show on Peconic Avenue @ 5-8pm\n\n7/1 Fireworks @ 9:15pm Grangebel Park\, Peconic Avenue\n\n7/15\n\n7/29\n\n8/12 paired with Reflextions: Art in the Park\n\n[8/19 Rain Date]
X-ALT-DESC;FMTTYPE=text/html:<p><a href="https://downtownriverhead.org/alive-on-25">Alive on 25</a>&nbsp\;is a walkable\, pop-up summer street festival in Downtown Riverhead offering live music on six stages\, local craft beverages\, outdoor dining\, Long Island artists\, performers and street vendors - this is where the east end comes ALIVE between Long Island&rsquo\;s Hamptons and North Fork.</p>\n\n<p>&nbsp\;</p>\n\n<p><strong>NEW FOR 2022: NOW HOSTED ON FRIDAYS!<br />\n5:00pm - 9:30pm</strong></p>\n\n<p><strong>7/1 Car Show on Peconic Avenue @ 5-8pm<br />\n7/1 Fireworks @ 9:15pm Grangebel Park\, Peconic Avenue<br />\n7/15<br />\n7/29<br />\n8/12 paired with&nbsp\;</strong><a href="https://reflextionsriverhead.com/" style="color: rgb(9\, 164\, 170)\; background-image: unset\; background-position: unset\; background-size: unset\; background-repeat: unset\; background-attachment: initial\; background-origin: initial\; background-clip: initial\; background-color: transparent\; cursor: pointer\; text-decoration-thickness: 1px\; text-decoration-style: solid\; text-decoration-color: currentcolor\; white-space: initial\; text-underline-offset: 0.2em\; text-decoration-skip-ink: auto\; overflow-wrap: break-word\;" target="_blank"><strong>Reflextions: Art in the Park</strong></a><br />\n<strong>[8/19 Rain Date]</strong></p>\n
LOCATION:Main Street\, Downtown Riverhead
UID:e.1805.12597
SEQUENCE:3
DTSTAMP:20260422T075510Z
URL:https://business.riverheadchamber.com/events/details/alive-on-25-08-12-2022-12597
END:VEVENT

END:VCALENDAR
