BEGIN:VCALENDAR
VERSION:2.0
PRODID:-//ChamberMaster//Event Calendar 2.0//EN
METHOD:PUBLISH
X-PUBLISHED-TTL:P3D
REFRESH-INTERVAL:P3D
CALSCALE:GREGORIAN
BEGIN:VEVENT
DTSTART:20240410T210000Z
DTEND:20240410T220000Z
X-MICROSOFT-CDO-ALLDAYEVENT:FALSE
SUMMARY:Gentle Yoga for Breast Cancer Patients/Survivors
DESCRIPTION:Gentle yoga tailored for breast cancer patients and survivors is back on the second and fourth Wednesday evening of every month at the North Fork Breast Health Coalition. Dress comfortably and bring your own yoga supplies such as a mat\, blocks\, belt\, pillow and water.
X-ALT-DESC;FMTTYPE=text/html:Gentle yoga tailored for breast cancer patients and survivors is back on the second and fourth Wednesday evening of every month at the North Fork Breast Health Coalition. Dress comfortably and bring your own yoga supplies such as a mat\, blocks\, belt\, pillow and water.&nbsp\;
LOCATION:North Fork Breast Health Coalition (across the road from the DMV) 185 Old Country Road Riverhead\, NY 11901
UID:e.1805.16397
SEQUENCE:3
DTSTAMP:20260421T054048Z
URL:https://business.riverheadchamber.com/events/details/gentle-yoga-for-breast-cancer-patients-survivors-04-10-2024-16397
END:VEVENT

END:VCALENDAR
