BEGIN:VCALENDAR
VERSION:2.0
PRODID:-//ChamberMaster//Event Calendar 2.0//EN
METHOD:PUBLISH
X-PUBLISHED-TTL:P3D
REFRESH-INTERVAL:P3D
CALSCALE:GREGORIAN
BEGIN:VEVENT
DTSTART:20190509T213000Z
DTEND:20190510T003000Z
X-MICROSOFT-CDO-ALLDAYEVENT:FALSE
SUMMARY:Live Music at Desmond's
DESCRIPTION:Enjoy the music of guitar/vocalist Alex Alexander with his selection of your favorite classic and contemporary hits.\n\nEvery Thursday evening at Desmond's from 5:30 - 8:30pm  Happy Hour from 4:00 - 6:00 pm
X-ALT-DESC;FMTTYPE=text/html:Enjoy the music of guitar/vocalist Alex Alexander with his selection of your favorite classic and contemporary hits.<br />\nEvery Thursday evening at Desmond&#39\;s from 5:30 - 8:30pm&nbsp\; Happy Hour from 4:00 - 6:00 pm
LOCATION:5720 Route 25A\, Wading River\, NY 11792
UID:e.1805.8952
SEQUENCE:3
DTSTAMP:20260422T010017Z
URL:https://business.riverheadchamber.com/events/details/live-music-at-desmond-s-05-09-2019-8952
END:VEVENT

END:VCALENDAR
