BEGIN:VCALENDAR
VERSION:2.0
PRODID:-//ChamberMaster//Event Calendar 2.0//EN
METHOD:PUBLISH
X-PUBLISHED-TTL:P3D
REFRESH-INTERVAL:P3D
CALSCALE:GREGORIAN
BEGIN:VEVENT
DTSTART:20180210T150000Z
DTEND:20180616T203000Z
X-MICROSOFT-CDO-ALLDAYEVENT:FALSE
SUMMARY:Spotlight Series: The Paintings. Highlights from the Permanent Collection
DESCRIPTION:Spotlight Series: The Paintings. Highlights from the Permanent Collection. \n\nSaturday\, February 10\, 2018   1:00 pm   OPENING RECEPTION\n\n\n\nThe Suffolk County Historical Society Museum has over 25\,000 physical objects in its collection\, most of them held in storage\, sometimes for years\, until placed on view for a specific exhibit. We are delighted to offer the first in a new Spotlight Series of exhibits designed to bring some of our wonderful objects out on display for all to enjoy. With over 250 paintings in our collection\, this exhibit of selected oil paintings represents a range of well-known professional artists to amateurs from the 19th and 20th centuries. Chosen for their beauty\, quality\, and community connection\, the SCHS will proudly unveil these paintings that we have the honor of protecting and preserving for generations to come.\n\n\n\nFree opening reception admission includes light refreshments.\n\n\n\nOn exhibit in our Weathervane Galley\, February 10   May 19\, 2018. \n\nGallery Hours: Weds. - Sat.\, 10:00 am - 4:30 pm
X-ALT-DESC;FMTTYPE=text/html:<strong><span style="font-size:10pt"><span style="font-family:georgia\,serif"><span style="color:black"><em>Spotlight Series: The Paintings. Highlights from the Permanent Collection. </em></span></span></span></strong><br />\n<span style="font-size:10pt"><span style="font-family:georgia\,serif"><span style="color:black"><strong>Saturday\, February 10\, 2018 &ndash\; 1:00 pm &ndash\; OPENING RECEPTION</strong></span></span></span><br />\n<br />\n<span style="font-size:10pt"><span style="font-family:georgia\,serif"><span style="color:black">The Suffolk County Historical Society Museum has over 25\,000 physical objects in its collection\, most of them held in storage\, sometimes for years\, until placed on view for a specific exhibit. We are delighted to offer the first in a new Spotlight Series of exhibits designed to bring some of our wonderful objects out on display for all to enjoy. With over 250 paintings in our collection\, this exhibit of selected oil paintings represents a range of well-known professional artists to amateurs from the 19th and 20th centuries. Chosen for their beauty\, quality\, and community connection\, the SCHS will proudly unveil these paintings that we have the honor of protecting and preserving for generations to come.<br />\n<br />\nFree opening reception admission includes light refreshments.<br />\n<br />\n<em>On exhibit in our Weathervane Galley\, February 10 &ndash\; May 19\, 2018.&nbsp\;<br />\nGallery Hours: Weds. - Sat.\, 10:00 am - 4:30 pm</em></span></span></span><br />\n&nbsp\;
LOCATION:Suffolk County Historical Society 300 W. Main St. Riverhead\, NY 11901
UID:e.1805.7576
SEQUENCE:3
DTSTAMP:20260426T011749Z
URL:https://business.riverheadchamber.com/events/details/spotlight-series-the-paintings-highlights-from-the-permanent-collection-7576
END:VEVENT

END:VCALENDAR
