BEGIN:VCALENDAR
VERSION:2.0
PRODID:-//ChamberMaster//Event Calendar 2.0//EN
METHOD:PUBLISH
X-PUBLISHED-TTL:P3D
REFRESH-INTERVAL:P3D
CALSCALE:GREGORIAN
BEGIN:VEVENT
DTSTART:20240228T233000Z
DTEND:20240229T020000Z
X-MICROSOFT-CDO-ALLDAYEVENT:FALSE
SUMMARY:The Riverhead Anti-Bias Task force and The SUFFOLK Presents a free movie screening of Just Mercy
DESCRIPTION:The Riverhead Anti-Bias Task force and The SUFFOLK Presents a free movie screening of "Just Mercy" featuring pre-screening forum with Sheriff Errol Toulon Jr\, District Attorney Ray Tierney\, Riverhead Town Supervisor Tim Hubbard moderated by Mark MK McLaughlin.
X-ALT-DESC;FMTTYPE=text/html:The Riverhead Anti-Bias Task force and The SUFFOLK Presents a free movie screening of &quot\;Just Mercy&quot\; featuring pre-screening forum with Sheriff Errol Toulon Jr\, District Attorney Ray Tierney\, Riverhead Town Supervisor Tim Hubbard moderated by Mark MK McLaughlin.
LOCATION:118 E Main St\, Riverhead\, NY 11901
UID:e.1805.17344
SEQUENCE:3
DTSTAMP:20260422T034933Z
URL:https://business.riverheadchamber.com/events/details/the-riverhead-anti-bias-task-force-and-the-suffolk-presents-a-free-movie-screening-of-just-mercy-17344
END:VEVENT

END:VCALENDAR
